BEGIN:VCALENDAR
VERSION:2.0
PRODID:-//Francois No&euml;l - ECPv6.15.20//NONSGML v1.0//EN
CALSCALE:GREGORIAN
METHOD:PUBLISH
X-WR-CALNAME:Francois No&euml;l
X-ORIGINAL-URL:https://francois-noel.com
X-WR-CALDESC:Évènements pour Francois No&euml;l
REFRESH-INTERVAL;VALUE=DURATION:PT1H
X-Robots-Tag:noindex
X-PUBLISHED-TTL:PT1H
BEGIN:VTIMEZONE
TZID:UTC
BEGIN:STANDARD
TZOFFSETFROM:+0000
TZOFFSETTO:+0000
TZNAME:UTC
DTSTART:20210101T000000
END:STANDARD
END:VTIMEZONE
BEGIN:VEVENT
DTSTART;TZID=UTC:20221118T180000
DTEND;TZID=UTC:20230110T180000
DTSTAMP:20260423T194335
CREATED:20221115T083020Z
LAST-MODIFIED:20221115T083020Z
UID:854-1668794400-1673373600@francois-noel.com
SUMMARY:PREMIUM HOUSES ART GALLERY
DESCRIPTION:ABSTRACTION & GEOMETRY \nExposition de deux mois dans la galerie du Groupe PREMIUM HOUSES a Barcelone an EspagneMAQUETA BIOGRAFÍA FRANÇOIS NOËL
URL:https://francois-noel.com/evenement/premium-houses-art-gallery
LOCATION:Premium Houses Art\, Sant Andreu\, Barcelona\, Espagne
ATTACH;FMTTYPE=image/jpeg:https://francois-noel.com/wp-content/uploads/2022/11/IMG_8803.jpg
END:VEVENT
BEGIN:VEVENT
DTSTART;VALUE=DATE:20221130
DTEND;VALUE=DATE:20221205
DTSTAMP:20260423T194335
CREATED:20221018T061504Z
LAST-MODIFIED:20221018T061504Z
UID:737-1669766400-1670198399@francois-noel.com
SUMMARY:Spectrum Miami
DESCRIPTION:
URL:https://francois-noel.com/evenement/spectrum-miami
LOCATION:Mana Wynwood\, 2217 NW 5th Avenue @\, NW 22nd St\, Miami\, \, FL 33127\, USA
CATEGORIES:Événements à venir
ATTACH;FMTTYPE=image/jpeg:https://francois-noel.com/wp-content/uploads/2022/10/Spectrum-miami.jpeg
END:VEVENT
END:VCALENDAR