BEGIN:VCALENDAR
VERSION:2.0
PRODID:-//Francois No&euml;l - ECPv6.15.20//NONSGML v1.0//EN
CALSCALE:GREGORIAN
METHOD:PUBLISH
X-WR-CALNAME:Francois No&euml;l
X-ORIGINAL-URL:https://francois-noel.com
X-WR-CALDESC:Évènements pour Francois No&euml;l
REFRESH-INTERVAL;VALUE=DURATION:PT1H
X-Robots-Tag:noindex
X-PUBLISHED-TTL:PT1H
BEGIN:VTIMEZONE
TZID:UTC
BEGIN:STANDARD
TZOFFSETFROM:+0000
TZOFFSETTO:+0000
TZNAME:UTC
DTSTART:20220101T000000
END:STANDARD
END:VTIMEZONE
BEGIN:VEVENT
DTSTART;TZID=UTC:20230116T080000
DTEND;TZID=UTC:20230116T170000
DTSTAMP:20260423T164700
CREATED:20230116T180632Z
LAST-MODIFIED:20230116T180632Z
UID:887-1673856000-1673888400@francois-noel.com
SUMMARY:ART SAN DIEGO États-Unis
DESCRIPTION:ART SAN DIEGO\nNOVEMBER 3-5\, 2023
URL:https://francois-noel.com/evenement/art-san-diego-etats-unis
LOCATION:San Diego Convention Center\, Hall C 111 W Harbor Dr\, San Diego\, \, CA 92101\, USA
CATEGORIES:Événements à venir
ATTACH;FMTTYPE=image/jpeg:https://francois-noel.com/wp-content/uploads/2023/01/IMG_1197.jpg
END:VEVENT
END:VCALENDAR