BEGIN:VCALENDAR
VERSION:2.0
PRODID:-//Francois No&euml;l - ECPv6.15.20//NONSGML v1.0//EN
CALSCALE:GREGORIAN
METHOD:PUBLISH
X-ORIGINAL-URL:https://francois-noel.com
X-WR-CALDESC:Évènements pour Francois No&euml;l
REFRESH-INTERVAL;VALUE=DURATION:PT1H
X-Robots-Tag:noindex
X-PUBLISHED-TTL:PT1H
BEGIN:VTIMEZONE
TZID:UTC
BEGIN:STANDARD
TZOFFSETFROM:+0000
TZOFFSETTO:+0000
TZNAME:UTC
DTSTART:20220101T000000
END:STANDARD
END:VTIMEZONE
BEGIN:VEVENT
DTSTART;TZID=UTC:20230215T080000
DTEND;TZID=UTC:20230319T170000
DTSTAMP:20260423T135011
CREATED:20230116T171530Z
LAST-MODIFIED:20230116T171530Z
UID:864-1676448000-1679245200@francois-noel.com
SUMMARY:Art Capital \, Grand Palais  Ephémère \, PARIS
DESCRIPTION:Du 15 au 19 février 2023\, au Grand Palais Éphémère\, sur le Champ de Mars\, à Paris en partenariat avec le Salon des Artistes Français
URL:https://francois-noel.com/evenement/art-capital-grand-palais-ephemere-paris
LOCATION:Grand Palais Éphémère\, champs de mars\, place joffre\, Paris\, 75007\, France
CATEGORIES:Événements à venir
ATTACH;FMTTYPE=image/jpeg:https://francois-noel.com/wp-content/uploads/2023/01/IMG_0860.jpg
END:VEVENT
END:VCALENDAR