BEGIN:VCALENDAR
VERSION:2.0
PRODID:-//Francois No&euml;l - ECPv6.15.20//NONSGML v1.0//EN
CALSCALE:GREGORIAN
METHOD:PUBLISH
X-WR-CALNAME:Francois No&euml;l
X-ORIGINAL-URL:https://francois-noel.com
X-WR-CALDESC:Évènements pour Francois No&euml;l
REFRESH-INTERVAL;VALUE=DURATION:PT1H
X-Robots-Tag:noindex
X-PUBLISHED-TTL:PT1H
BEGIN:VTIMEZONE
TZID:UTC
BEGIN:STANDARD
TZOFFSETFROM:+0000
TZOFFSETTO:+0000
TZNAME:UTC
DTSTART:20220101T000000
END:STANDARD
END:VTIMEZONE
BEGIN:VEVENT
DTSTART;TZID=UTC:20230504T080000
DTEND;TZID=UTC:20230508T170000
DTSTAMP:20260423T104411
CREATED:20230116T173032Z
LAST-MODIFIED:20230116T173032Z
UID:872-1683187200-1683565200@francois-noel.com
SUMMARY:Sm'Art Aix en Provence
DESCRIPTION:Salon Sm’Art Aix\n4 – 8 mai 2023 \nSoyez Sm’art pour cette nouvelle rentrée en intégrant les rangs des quelques 25 000 visiteurs qui viennent arpenter les allées du Parc Jourdan. Artistes\, créateurs\, plasticiens\, exposants s’unissent pendant 5 jours pour vous offrir le meilleur de l’art contemporain – un spectacle rayonnant de nouveaux talents !
URL:https://francois-noel.com/evenement/smart-aix-en-provence
LOCATION:Sm’Art\, Parc Jourdan\, Aix en Provence\, 13100\, France
CATEGORIES:Événements à venir
ATTACH;FMTTYPE=image/jpeg:https://francois-noel.com/wp-content/uploads/2023/01/IMG_1193.jpg
END:VEVENT
END:VCALENDAR