BEGIN:VCALENDAR
VERSION:2.0
PRODID:-//Francois No&euml;l - ECPv6.15.20//NONSGML v1.0//EN
CALSCALE:GREGORIAN
METHOD:PUBLISH
X-WR-CALNAME:Francois No&euml;l
X-ORIGINAL-URL:https://francois-noel.com
X-WR-CALDESC:Évènements pour Francois No&euml;l
REFRESH-INTERVAL;VALUE=DURATION:PT1H
X-Robots-Tag:noindex
X-PUBLISHED-TTL:PT1H
BEGIN:VTIMEZONE
TZID:UTC
BEGIN:STANDARD
TZOFFSETFROM:+0000
TZOFFSETTO:+0000
TZNAME:UTC
DTSTART:20220101T000000
END:STANDARD
END:VTIMEZONE
BEGIN:VEVENT
DTSTART;TZID=UTC:20231206T080000
DTEND;TZID=UTC:20231210T170000
DTSTAMP:20260422T225730
CREATED:20230116T180911Z
LAST-MODIFIED:20230116T180911Z
UID:891-1701849600-1702227600@francois-noel.com
SUMMARY:RED DOT Miami
DESCRIPTION:RED DOT MIAMI\nDecember 6-10\, 2023
URL:https://francois-noel.com/evenement/red-dot-miami-2
LOCATION:Mana Wynwood\, 2217 NW 5th Avenue @\, NW 22nd St\, Miami\, \, FL 33127\, USA
CATEGORIES:Événements à venir
ATTACH;FMTTYPE=image/png:https://francois-noel.com/wp-content/uploads/2023/01/IMG_1194.png
END:VEVENT
END:VCALENDAR