BEGIN:VCALENDAR
VERSION:2.0
PRODID:-//Francois No&euml;l - ECPv6.15.20//NONSGML v1.0//EN
CALSCALE:GREGORIAN
METHOD:PUBLISH
X-ORIGINAL-URL:https://francois-noel.com
X-WR-CALDESC:Évènements pour Francois No&euml;l
REFRESH-INTERVAL;VALUE=DURATION:PT1H
X-Robots-Tag:noindex
X-PUBLISHED-TTL:PT1H
BEGIN:VTIMEZONE
TZID:UTC
BEGIN:STANDARD
TZOFFSETFROM:+0000
TZOFFSETTO:+0000
TZNAME:UTC
DTSTART:20220101T000000
END:STANDARD
END:VTIMEZONE
BEGIN:VEVENT
DTSTART;TZID=UTC:20230330T080000
DTEND;TZID=UTC:20230402T170000
DTSTAMP:20260423T104745
CREATED:20230116T172411Z
LAST-MODIFIED:20230116T172411Z
UID:868-1680163200-1680454800@francois-noel.com
SUMMARY:Art Expo\, New York
DESCRIPTION:ARTEXPO NEW YORK\nThe World’s Original Fine Art Trade Show| March 30 – April 2\, 2023
URL:https://francois-noel.com/evenement/art-expo-new-york
LOCATION:ART EXPO\, Pier 36 299 South Street\, New York\, \, NY 10002\, USA
CATEGORIES:Événements à venir
ATTACH;FMTTYPE=image/jpeg:https://francois-noel.com/wp-content/uploads/2023/01/IMG_1192.jpg
END:VEVENT
BEGIN:VEVENT
DTSTART;TZID=UTC:20230401T080000
DTEND;TZID=UTC:20230429T170000
DTSTAMP:20260423T104745
CREATED:20230116T181544Z
LAST-MODIFIED:20230116T181544Z
UID:893-1680336000-1682787600@francois-noel.com
SUMMARY:Agora Gallery New-York
DESCRIPTION: AGORA GALLERY\nSince its founding in 1984 Agora Gallery has focused on showcasing a wide variety of international emerging artists and projects. However\, the gallery will also now focus on special exhibitions of curated shows with seminal works from renowned estates\, private collections and institutions.
URL:https://francois-noel.com/evenement/agora-gallery-new-york
LOCATION:Agora Gallery\, 530 West 25th\, New York\, \, NY 10001\, USA
CATEGORIES:Événements à venir
ATTACH;FMTTYPE=image/png:https://francois-noel.com/wp-content/uploads/2023/01/IMG_1198.png
END:VEVENT
END:VCALENDAR