BEGIN:VCALENDAR
VERSION:2.0
PRODID:-//Francois No&euml;l - ECPv6.15.20//NONSGML v1.0//EN
CALSCALE:GREGORIAN
METHOD:PUBLISH
X-ORIGINAL-URL:https://francois-noel.com
X-WR-CALDESC:Évènements pour Francois No&euml;l
REFRESH-INTERVAL;VALUE=DURATION:PT1H
X-Robots-Tag:noindex
X-PUBLISHED-TTL:PT1H
BEGIN:VTIMEZONE
TZID:UTC
BEGIN:STANDARD
TZOFFSETFROM:+0000
TZOFFSETTO:+0000
TZNAME:UTC
DTSTART:20220101T000000
END:STANDARD
END:VTIMEZONE
BEGIN:VEVENT
DTSTART;TZID=UTC:20230714T080000
DTEND;TZID=UTC:20230716T170000
DTSTAMP:20260423T052954
CREATED:20230116T180038Z
LAST-MODIFIED:20230116T182126Z
UID:883-1689321600-1689526800@francois-noel.com
SUMMARY:Art Santa Fe\, États-Unis
DESCRIPTION:ART SANTA FE\nJULY 14-16\, 2023
URL:https://francois-noel.com/evenement/art-santa-fe-etat-unis
LOCATION:SANTA FE CONVENTION CENTER\, 201 W Marcy St\, Santa Fe\, \, NM 87501\, USA
CATEGORIES:Événements à venir
ATTACH;FMTTYPE=image/jpeg:https://francois-noel.com/wp-content/uploads/2023/01/IMG_1196.jpg
END:VEVENT
END:VCALENDAR